BEGIN:VCALENDAR
VERSION:2.0
PRODID:-//ChamberMaster//Event Calendar 2.0//EN
METHOD:PUBLISH
X-PUBLISHED-TTL:P3D
REFRESH-INTERVAL:P3D
CALSCALE:GREGORIAN
BEGIN:VEVENT
DTSTART:20180304T020000Z
DTEND:20180304T050000Z
X-MICROSOFT-CDO-ALLDAYEVENT:FALSE
SUMMARY:Zonta Evening Art & Wine
DESCRIPTION:March 3\, 2018 is Zonta's 14th Annual Evening of Art and Wine\, 6-9 p.m. at Nuckols Ranch.  The Evening of Art and Wine is Zonta's top class fundraising event featuring local artist Steven Ball and the best of the California wines. It is a fun-filled evening where friends get together and enjoy delectable hors d'oeuvres made by Zonta members while tasting various wines and bidding on live and silent auction items. It is an evening you do not want to miss.
X-ALT-DESC;FMTTYPE=text/html:<a href="https://chambermaster.blob.core.windows.net/userfiles/UserFiles/chambers/2225/File/ZONTA.pdf" onclick="window.open(this.href\, ''\, 'resizable=no\,status=no\,location=no\,toolbar=no\,menubar=no\,fullscreen=no\,scrollbars=no\,dependent=no')\; return false\;"><font size="3" style="color: rgb(0\, 0\, 0)\; font-family: arial\;"><span class="aBn" data-term="goog_94192503" style="border-bottom: 1px dashed rgb(204\, 204\, 204)\; position: relative\; top: -2px\; z-index: 0\;" tabindex="0"><span class="aQJ" style="position: relative\; top: 2px\; z-index: -1\;">March 3\, 2018</span></span>&nbsp\;is Zonta&#39\;s 14th Annual Evening of Art and Wine\,&nbsp\;<span class="aBn" data-term="goog_94192504" style="border-bottom: 1px dashed rgb(204\, 204\, 204)\; position: relative\; top: -2px\; z-index: 0\;" tabindex="0"><span class="aQJ" style="position: relative\; top: 2px\; z-index: -1\;">6-9 p.m.</span></span>&nbsp\;at Nuckols Ranch.&nbsp\; The Evening of Art and Wine is Zonta&#39\;s top class fundraising event featuring local artist Steven Ball and the best of the California wines. It is a fun-filled evening where friends get together and enjoy delectable&nbsp\;</font><font size="3" style="color: rgb(0\, 0\, 0)\; font-family: arial\;"><span class="m_1020625497729741276st">hors d&#39\;oeuvres</span>&nbsp\;made by Zonta members while tasting various wines and bidding on live and silent auction items. It is an evening you do not want to miss.</font></a>
LOCATION:Nuckols Ranch
UID:e.2225.1288
SEQUENCE:3
DTSTAMP:20260422T144756Z
URL:https://business.portervillechamber.org/events/details/zonta-evening-art-wine-1288
END:VEVENT

END:VCALENDAR
