BEGIN:VCALENDAR
VERSION:2.0
PRODID:-//ChamberMaster//Event Calendar 2.0//EN
METHOD:PUBLISH
X-PUBLISHED-TTL:P3D
REFRESH-INTERVAL:P3D
CALSCALE:GREGORIAN
BEGIN:VEVENT
DTSTART:20191026T180000Z
DTEND:20191026T210000Z
X-MICROSOFT-CDO-ALLDAYEVENT:FALSE
SUMMARY:Zonta International's Centennial- Zonta Club of Porterville's 70th
DESCRIPTION:Celebrating Zonta International's Centennial and Zonta Club of Porterville's 70th. \n\nThere will be a Special Guest of Honor: International President Elect Sharon Langenbeck
X-ALT-DESC;FMTTYPE=text/html:<font face="Helvetica Neue\, Helvetica\, Arial\, sans-serif"><span style="font-size: 14.3px\; background-color: rgb(252\, 252\, 252)\;">Celebrating Zonta International&#39\;s Centennial and Zonta Club of Porterville&#39\;s 70th.&nbsp\;<br />\nThere will be a Special Guest of Honor: International President Elect Sharon Langenbeck&nbsp\;</span></font>
LOCATION:Nuckols Ranch 13144 Road 216 Porterville\, CA 93257
UID:e.2225.1948
SEQUENCE:3
DTSTAMP:20260421T035559Z
URL:https://business.portervillechamber.org/events/details/zonta-international-s-centennial-zonta-club-of-porterville-s-70th-1948
END:VEVENT

END:VCALENDAR
