BEGIN:VCALENDAR
VERSION:2.0
PRODID:-//ChamberMaster//Event Calendar 2.0//EN
METHOD:PUBLISH
X-PUBLISHED-TTL:P3D
REFRESH-INTERVAL:P3D
CALSCALE:GREGORIAN
BEGIN:VEVENT
DTSTART:20190303T020000Z
DTEND:20190303T050000Z
X-MICROSOFT-CDO-ALLDAYEVENT:FALSE
SUMMARY:Zonta's 15th Annual Evening of Art and Wine
DESCRIPTION:The Porterville Zonta Club would like to invite you to their 15th annual Evening of Art and Wine at Nuckols Ranch. The event will feature the art work of George Tanimoto and Manuel Abad.
X-ALT-DESC;FMTTYPE=text/html:The Porterville Zonta Club would like to invite you to their 15th annual Evening of Art and Wine at Nuckols Ranch. The event will feature the art work of George Tanimoto and Manuel Abad.
LOCATION:Nuckols Ranch 13144 Rd 216\, Porterville\, CA 93257
UID:e.2225.1859
SEQUENCE:3
DTSTAMP:20260421T155517Z
URL:https://business.portervillechamber.org/events/details/zonta-s-15th-annual-evening-of-art-and-wine-1859
END:VEVENT

END:VCALENDAR
