BEGIN:VCALENDAR
VERSION:2.0
PRODID:-//ChamberMaster//Event Calendar 2.0//EN
METHOD:PUBLISH
X-PUBLISHED-TTL:P3D
REFRESH-INTERVAL:P3D
CALSCALE:GREGORIAN
BEGIN:VEVENT
DTSTART:20200308T020000Z
DTEND:20200308T050000Z
X-MICROSOFT-CDO-ALLDAYEVENT:FALSE
SUMMARY:Zonta's 16th Annual Evening of Art and Wine
DESCRIPTION:The Zonta Club will be hosting their 16th Annual Evening of Art and Wine on Saturday\, March 7th from 6:00 p.m. to 9:00 p.m. at Nuckols Ranch. It will be featuring the art work of Kirby Banta and Bethany Phillips.
X-ALT-DESC;FMTTYPE=text/html:The Zonta Club will be hosting their 16th Annual Evening of Art and Wine on Saturday\, March 7th from 6:00 p.m. to 9:00 p.m. at Nuckols Ranch. It will be featuring the art work of Kirby Banta and Bethany Phillips.&nbsp\;
LOCATION:Nuckols Ranch 13144 Road 216\, Porterville\, CA 93257
UID:e.2225.2145
SEQUENCE:3
DTSTAMP:20260420T184812Z
URL:https://business.portervillechamber.org/events/details/zonta-s-16th-annual-evening-of-art-and-wine-2145
END:VEVENT

END:VCALENDAR
