BEGIN:VCALENDAR
VERSION:2.0
PRODID:-//ChamberMaster//Event Calendar 2.0//EN
METHOD:PUBLISH
X-PUBLISHED-TTL:P3D
REFRESH-INTERVAL:P3D
CALSCALE:GREGORIAN
BEGIN:VEVENT
DTSTART:20210620T010000Z
DTEND:20210620T040000Z
X-MICROSOFT-CDO-ALLDAYEVENT:FALSE
SUMMARY:Zonta's Evening of Art and Wine
DESCRIPTION:This OUTDOOR Evening of Art and Wine is our top class event where we feature local artists and the best of California wines. It is a fun-filled evening where friends get together and enjoy delectable hors d'oeuvres made by Zonta members while tasting various wines. It is an evening you do not want to miss.
X-ALT-DESC;FMTTYPE=text/html:This OUTDOOR Evening of Art and Wine is our top class event where we feature local artists and the best of California wines. It is a fun-filled evening where friends get together and enjoy delectable hors d&rsquo\;oeuvres made by Zonta members while tasting various wines. It is an evening you do not want to miss.
LOCATION:Nuckols Ranch 13144 Road 216 Porterville\, CA 93257
UID:e.2225.2197
SEQUENCE:3
DTSTAMP:20260419T164019Z
URL:https://business.portervillechamber.org/events/details/zonta-s-evening-of-art-and-wine-2197
END:VEVENT

END:VCALENDAR
