BEGIN:VCALENDAR
VERSION:2.0
PRODID:-//ChamberMaster//Event Calendar 2.0//EN
METHOD:PUBLISH
X-PUBLISHED-TTL:P3D
REFRESH-INTERVAL:P3D
CALSCALE:GREGORIAN
BEGIN:VEVENT
DTSTART:20180421T010000Z
DTEND:20180421T043000Z
X-MICROSOFT-CDO-ALLDAYEVENT:FALSE
SUMMARY:Zonta Scholarship Bunco Night
DESCRIPTION:Zonta Club of Porterville will host its annual Evening of Bunco and Dinner Under the Stars on Friday\, 4/20/18 beginning at 6:00 p.m. Proceeds support Zonta Club of Porterville Scholarship programs.
X-ALT-DESC;FMTTYPE=text/html:Zonta Club of Porterville will host its annual Evening of Bunco and Dinner Under the Stars on Friday\, 4/20/18 beginning at 6:00 p.m. Proceeds support Zonta Club of Porterville Scholarship programs.
LOCATION:Nuckols Ranch 13144 Rd 216 Porterville CA
UID:e.2225.1459
SEQUENCE:3
DTSTAMP:20260422T112953Z
URL:https://business.portervillechamber.org/events/details/zonta-scholarship-bunco-night-1459
END:VEVENT

END:VCALENDAR
